BEGIN:VCALENDAR
VERSION:2.0
PRODID:icalendar-ruby
CALSCALE:GREGORIAN
BEGIN:VEVENT
DTSTAMP:20240915T173050Z
UID:event-occurrence-b7f5d39e-d999-4288-b5b6-873e39e81a2e-event-680782d8-dc
 67-4ed0-98ae-23a7fd374fd2@termine-e
DTSTART:20241025T200000
DTEND:20241025T000000
CLASS:PUBLIC
DESCRIPTION:Am 25.10. lädt das Team von ‚time to talk‘ zu einer Abendv
 eranstaltung für Frauen ein. Beginn ist um 20 Uhr\, Einladung 19:30 Uhr. 
 Treffpunkt ist das Restaurant Mylos in Sittensen.Die eingeladenen Referent
 en sind Samer Tannous und Gerd Hachmöller. Das erste Mal lädt das ‚tim
 e to talk‘-Team männliche Referenten ein.Samer Tannous wurde in 1970 in
  Syrien geboren. Er studierte in Nancy (Frankreich) und Damaskus französi
 sche Literatur. Bis 2015 arbeitete er als Dozent für französische Sprach
 e und L...
LOCATION:
SUMMARY:„Time to talk“ sagt Marhaban Bicom
END:VEVENT
END:VCALENDAR
