BEGIN:VCALENDAR
VERSION:2.0
PRODID:icalendar-ruby
CALSCALE:GREGORIAN
BEGIN:VEVENT
DTSTAMP:20260422T211012Z
UID:event-occurrence-0ce6784a-945f-4a52-bbe9-9116e8a92357-event-67ae6875-a5
 4a-430a-b290-823c2dd2ac05@termine-e
DTSTART:20260611T190000
DTEND:20260611T220000
CLASS:PUBLIC
LOCATION:St. Thomas\, Bremer Str. 70\, 49163\, Bohmte
SUMMARY:KV-Sitzung
END:VEVENT
END:VCALENDAR
