BEGIN:VCALENDAR
VERSION:2.0
PRODID:icalendar-ruby
CALSCALE:GREGORIAN
BEGIN:VEVENT
DTSTAMP:20260407T095823Z
UID:event-occurrence-f3059dc9-086d-43ba-b653-0496855978a7-event-67ae467d-48
 8b-4c98-a142-58aa435ae809@termine-e
DTSTART:20260606T180000
DTEND:20260606T000000
CLASS:PUBLIC
DESCRIPTION:Taizé-GottesdienstMusikal. Gestaltung: Ursula Hörsch (Stedesd
 orf) und InstrumentalkreisLiturg. Leitung: Pastor Tolsdorf
LOCATION:St. Nicolaikirche Wittmund\, Am Kirchplatz 2\, 26409\, Wittmund
SUMMARY:Taizé-Gottesdienst
END:VEVENT
END:VCALENDAR
