BEGIN:VCALENDAR
VERSION:2.0
PRODID:icalendar-ruby
CALSCALE:GREGORIAN
BEGIN:VEVENT
DTSTAMP:20260326T121053Z
UID:event-occurrence-058d4edc-8e06-4e71-84cb-4c02819ac459-event-665ef954-6f
 85-464e-aeda-3534c597bb91@termine-e
DTSTART:20270419T140000
DTEND:20270420T130000
CLASS:PUBLIC
DESCRIPTION:Angesichts von Verlusterfahrungen\, körperlichen undseelischen
  Belastungen\, Erfahrungen mit Pflegebedürftigkeitund Demenz und dem Gef
 ühl\, nutzlos und angewiesenzu sein\, gewinnt die Sinnfrage mit zunehmend
 emAlter an Bedeutung. In diesem Modul geht es um Sinnfragenin der Begegnun
 g mit älteren Menschen\, aberauch um Anregungen und praktische Beispiele 
 für ihreBegleitung in Seelsorge\, Senior*innengruppen und Besuchsdienst:W
 ie gelingt es\, glücklich und sinnerfüllt alt zuwerden? Welche Rolle kan
 n dab...
LOCATION:
SUMMARY:älterwerden.endlich.leben Modul 5_Sehnsucht nach Sinn – Impulse 
 für Seelsorge\, Senior*innengruppen und Besuchsdienste
END:VEVENT
END:VCALENDAR
