BEGIN:VCALENDAR
VERSION:2.0
PRODID:icalendar-ruby
CALSCALE:GREGORIAN
BEGIN:VEVENT
DTSTAMP:20260327T082754Z
UID:event-occurrence-60d8281c-8cc5-4146-9756-8859651e094d-event-6607b15f-e5
 1b-4ba7-a349-924cda1a24f8@termine-e
DTSTART:20260612T190000
DTEND:20260612T000000
CLASS:PUBLIC
DESCRIPTION:Feierabend am Freitag\, um 19:00 Uhr: Einige treffen sich ab 18
  Uhr und bereiten alles vor. Die anderen kommen dann dazu. Wer kann\, brin
 gt etwas mit für das einfache Mahl. Brot\, Wasser und Wein stehen schon b
 ereit. Ein kurzer Einstieg und ein Lied eröffnen den Abend\, wir essen ge
 meinsam\, ein Impuls lädt zum Mitmachen und zum Gespräch ein.
LOCATION:Friedenskirche\, Schackstr. 2–4\, 30175\, Hannover
SUMMARY:FeierAbend
END:VEVENT
END:VCALENDAR
