BEGIN:VCALENDAR
VERSION:2.0
PRODID:icalendar-ruby
CALSCALE:GREGORIAN
BEGIN:VEVENT
DTSTAMP:20260309T101510Z
UID:event-occurrence-a978ae78-1888-484d-9873-e842d8a728e3-event-646238d1-9e
 31-4d0e-8ef2-0edea3fe57eb@termine-e
DTSTART:20260315T093000
DTEND:20260315T000000
CLASS:PUBLIC
DESCRIPTION:musikalische Gestaltung: Ludgeri Consortmit Pastor Michael Rüc
 kleben
LOCATION:Arche Norddeich\, Nordlandstraße 8a\, 26506\, Norden
SUMMARY:Gottesdienst in der Arche Norddeich
END:VEVENT
END:VCALENDAR
