BEGIN:VCALENDAR
VERSION:2.0
PRODID:icalendar-ruby
CALSCALE:GREGORIAN
BEGIN:VEVENT
DTSTAMP:20260420T181646Z
UID:event-occurrence-8ac9a085-6ea8-41a5-b6de-f0ecfcbb8897-event-642d1050-49
 95-4add-be1e-7de0ef665143@termine-e
DTSTART:20260503T110000
DTEND:20260503T000000
CLASS:PUBLIC
DESCRIPTION:Wir laden herzlich ein: Gottesdienste an Sonn– und Feiertagen
  feiern wir um 11 Uhr in der festlichen Form der Evangelische Messe mit Pr
 edigt und Abendmahl. Unter der Woche feiern wir die Messe in einer kürzer
 en Form und das Abendgebet der Kirche (die Vesper)
LOCATION:Ev.-luth. Gnadenkirche zum Heiligen Kreuz\, Lehrter Platz 5\, 3051
 9\, Hannover
SUMMARY:Anglikanische Messe (engl.-dt.)\, Rev. R. Downes\, Kantor: M. Zinge
 rling – Vierter Sonntag nach Ostern / Kantate
END:VEVENT
END:VCALENDAR
