BEGIN:VCALENDAR
VERSION:2.0
PRODID:icalendar-ruby
CALSCALE:GREGORIAN
BEGIN:VEVENT
DTSTAMP:20260419T084220Z
UID:event-occurrence-5b8a31dd-d946-495c-af81-e845bde601e7-event-63b53335-3e
 9d-49e7-83e9-4527aee2ee20@termine-e
DTSTART:20260526T163000
DTEND:20260526T000000
CLASS:PUBLIC
DESCRIPTION:Herzliche Einladung zum Bibelkreis. Zurzeit lesen wir die Apost
 elgeschichte des Lukas. Die Bibeltexte werden erklärt und wir tauschen un
 s über Fragen und eigene Erfahrungen und Einsichten aus. Vorkenntnisse si
 nd nicht nötig\, lediglich die Bereitschaft\, sich auf das Wort Gottes ei
 nzulassen.
LOCATION:Ev.-luth. Gnadenkirche zum Heiligen Kreuz\, Lehrter Platz 5\, 3051
 9\, Hannover
SUMMARY:Bibel-Gesprächskreis
END:VEVENT
END:VCALENDAR
