BEGIN:VCALENDAR
VERSION:2.0
PRODID:icalendar-ruby
CALSCALE:GREGORIAN
BEGIN:VEVENT
DTSTAMP:20260327T122828Z
UID:event-occurrence-f1d1514c-8aa3-48da-bdd8-a47e6f733621-event-63ac13e0-c1
 80-48cf-a0c1-4dea238bdcbb@termine-e
DTSTART:20260520T130000
DTEND:20260520T000000
CLASS:PUBLIC
DESCRIPTION:30 Minuten Gebet\, geistlicher Impuls &amp\; OrgelmusikHeinz Do
 mdey\, ka:punkt | Axel LaDeur\, Orgel
LOCATION:Marktkirche Hannover\, Hanns-Lilje-Platz 2\, 30159\, Hannover
SUMMARY:Ökumenisches Mittagsgebet
END:VEVENT
END:VCALENDAR
