BEGIN:VCALENDAR
VERSION:2.0
PRODID:icalendar-ruby
CALSCALE:GREGORIAN
BEGIN:VEVENT
DTSTAMP:20260325T122933Z
UID:event-occurrence-6412380c-0417-4b6d-97a5-459d7fd016dc-event-62f80d37-99
 90-4c8d-b8e9-0532990b3105@termine-e
DTSTART:20260509T093000
DTEND:20260509T113000
CLASS:PUBLIC
DESCRIPTION:Kindergottesdienst - mit Frühstück. Für Kinder ab 5 Jahren. 
 Wir reden\, spielen und basteln rund um die Bibel.
LOCATION:Gemeindehaus Conrebbersweg\, Kürenweg/Radbodplatz\, 26721\, Emden
SUMMARY:Kindergottesdienst - mit Frühstück
END:VEVENT
END:VCALENDAR
