BEGIN:VCALENDAR
VERSION:2.0
PRODID:icalendar-ruby
CALSCALE:GREGORIAN
BEGIN:VEVENT
DTSTAMP:20260311T085732Z
UID:event-occurrence-ccf42b02-53d0-4beb-b8cc-c384803b92fe-event-62dd2cc7-6e
 09-4a68-a3a8-27dcc00fc82a@termine-e
DTSTART:20260322T090000
DTEND:20260322T000000
CLASS:PUBLIC
LOCATION:Emmaus-Kirchengemeinde Leezdorf\, Farnweg 22\, 26529\, Leezdorf
SUMMARY:Gottesdienst mit Pastor R. Ott
END:VEVENT
END:VCALENDAR
