BEGIN:VCALENDAR
VERSION:2.0
PRODID:icalendar-ruby
CALSCALE:GREGORIAN
BEGIN:VEVENT
DTSTAMP:20260304T192819Z
UID:event-occurrence-7e0a71a5-e3ea-4d6d-bffd-8c91aea92f82-event-6216abfc-33
 fe-4a7a-a00d-7865778ac890@termine-e
DTSTART:20260308T110000
DTEND:20260308T000000
CLASS:PUBLIC
DESCRIPTION:mit Pastorin Daniela Freesemann
LOCATION:St. Lucas-Kirche Pattensen\, Corvinusplatz 2\, 30982\, Pattensen
SUMMARY:Pattensen: Gottesdienst
END:VEVENT
END:VCALENDAR
