BEGIN:VCALENDAR
VERSION:2.0
PRODID:icalendar-ruby
CALSCALE:GREGORIAN
BEGIN:VEVENT
DTSTAMP:20260419T174944Z
UID:event-occurrence-6e63bc01-041b-436c-b56d-cdcb0f718c03-event-6203894a-c0
 4f-4589-ae52-21133cf4a29a@termine-e
DTSTART:20260502T000000
DTEND:20260525T000000
CLASS:PUBLIC
LOCATION:
SUMMARY:WER SINGT\, BLÜHT AUF! - Mitsingfestival der Landeskirche Hannover
END:VEVENT
END:VCALENDAR
