BEGIN:VCALENDAR
VERSION:2.0
PRODID:icalendar-ruby
CALSCALE:GREGORIAN
BEGIN:VEVENT
DTSTAMP:20260328T100044Z
UID:event-occurrence-c6021899-ac2c-4f0f-b3f1-c5151a059be3-event-61f61d73-07
 67-458f-9a4b-430f537b4878@termine-e
DTSTART:20260503T180000
DTEND:20260503T000000
CLASS:PUBLIC
DESCRIPTION:Musik: KMD Harald Röhrig
LOCATION:Herrenhäuser Kirche\, Hegebläch 19\, 30419\, Hannover
SUMMARY:Kantatengottesdienst zum Mitsingen
END:VEVENT
END:VCALENDAR
