BEGIN:VCALENDAR
VERSION:2.0
PRODID:icalendar-ruby
CALSCALE:GREGORIAN
BEGIN:VEVENT
DTSTAMP:20260408T195027Z
UID:event-occurrence-c01dcae2-54b2-45ff-8051-c02978a97e14-event-60d06f2b-da
 3a-432a-8b3b-c9223761542a@termine-e
DTSTART:20260508T190000
DTEND:20260508T000000
CLASS:PUBLIC
DESCRIPTION:Der bekannte Winzer aus dem Rheinland stellt den neuen Wein vor
LOCATION:Gemeindehaus\, Hauptstraße 10\, 27404\, Rhade
SUMMARY:Weinprobe
END:VEVENT
END:VCALENDAR
