BEGIN:VCALENDAR
VERSION:2.0
PRODID:icalendar-ruby
CALSCALE:GREGORIAN
BEGIN:VEVENT
DTSTAMP:20260303T104321Z
UID:event-occurrence-ed919062-f829-4e39-b3d5-b7635395f0bf-event-608c56f8-55
 ec-4315-8324-427288f3e25d@termine-e
DTSTART:20260308T100000
DTEND:20260308T000000
CLASS:PUBLIC
DESCRIPTION:Pastor i.R. Bernhard Berends\; Kollekte: EKD – besondere gesa
 mtkirchliche Aufgaben
LOCATION:Liudgeri-Kirche Hesel\, Am Ehrenmal 4\, 26835\, Hesel
SUMMARY:Gottesdienst am Sonntag Okuli
END:VEVENT
END:VCALENDAR
