BEGIN:VCALENDAR
VERSION:2.0
PRODID:icalendar-ruby
CALSCALE:GREGORIAN
BEGIN:VEVENT
DTSTAMP:20260326T121703Z
UID:event-occurrence-1806a3d9-d9ff-448a-b755-cb081939174a-event-6007aedf-bb
 c2-4f80-b5ea-a4171ee506f0@termine-e
DTSTART:20270525T140000
DTEND:20270526T130000
CLASS:PUBLIC
DESCRIPTION:Demenz hat Zukunft. Immer mehr Menschen werden inden nächsten 
 Jahren davon betroffen sein\, in der Familie\,in der Nachbarschaft\, im Fr
 eundeskreis. Schon jetzterleben wir\, dass Menschen mit Demenz und ihre An
 gehörigensich oft unbemerkt zurückziehen aus demgesellschaftlichen und k
 irchlichen Leben\, und ihnen religiöseKraftquellen und die Zugehörigkeit
  zu wichtigenNetzwerken verloren gehen. Mit Impulsen\, Hintergrundinformat
 ionenund kreativen Gesprächsrunden will dasModul zur Demenzsensibilität 
 erm...
LOCATION:
SUMMARY:älterwerden.endlich.leben Modul 6_Demenzsensible Kirchengemeinde u
 nd Seelsorge
END:VEVENT
END:VCALENDAR
