BEGIN:VCALENDAR
VERSION:2.0
PRODID:icalendar-ruby
CALSCALE:GREGORIAN
BEGIN:VEVENT
DTSTAMP:20260423T193010Z
UID:event-occurrence-3bc4d14b-b831-417c-aaf1-2bf715c211fe-event-5ee3398e-92
 8b-4ba1-b2f8-46f561dc30a5@termine-e
DTSTART:20260424T180000
DTEND:20260424T000000
CLASS:PUBLIC
DESCRIPTION:mit Popchor. Leitung: Pastor Nickel
LOCATION:St. Dionysius-Kirche Bad Fallingbostel\, Kirchplatz 9b\, 29683\, B
 ad Fallingbostel
SUMMARY:Beicht- und Abendmahlgottesdienst in Bad Fallingbostel
END:VEVENT
END:VCALENDAR
