BEGIN:VCALENDAR
VERSION:2.0
PRODID:icalendar-ruby
CALSCALE:GREGORIAN
BEGIN:VEVENT
DTSTAMP:20260328T100410Z
UID:event-occurrence-216a5e7e-c745-4070-aecd-02378c46f566-event-5d0d2031-e0
 d2-4063-810a-63ec1583d186@termine-e
DTSTART:20260510T103000
DTEND:20260510T000000
CLASS:PUBLIC
DESCRIPTION:mit KMD H. Röhrig und M. Tewes\, Oboe
LOCATION:Herrenhäuser Kirche\, Hegebläch 19\, 30419\, Hannover
SUMMARY:Wunschliedergottesdienst
END:VEVENT
END:VCALENDAR
