BEGIN:VCALENDAR
VERSION:2.0
PRODID:icalendar-ruby
CALSCALE:GREGORIAN
BEGIN:VEVENT
DTSTAMP:20260408T194855Z
UID:event-occurrence-44a0a49c-f167-46dd-962f-e4e8a36fb938-event-5cfc12e0-67
 f6-4605-9210-eb90f268c3f3@termine-e
DTSTART:20260503T100000
DTEND:20260503T000000
CLASS:PUBLIC
LOCATION:Kirche\, Hauptstraße 12\, 27404\, Rhade
SUMMARY:Gottesdienst mit Taufe
END:VEVENT
END:VCALENDAR
