BEGIN:VCALENDAR
VERSION:2.0
PRODID:icalendar-ruby
CALSCALE:GREGORIAN
BEGIN:VEVENT
DTSTAMP:20260421T142157Z
UID:event-occurrence-266717fa-21f0-4f79-9083-b7caddbe1c39-event-5ca34070-09
 5a-4055-8072-4dea3a060e8a@termine-e
DTSTART:20260802T100000
DTEND:20260802T000000
CLASS:PUBLIC
DESCRIPTION:9. Sonntag nach Trinitatis"Sommerkirche 2026 III": Ermöglicht 
 die Lesebrille einen scharfen Blick auf alles?
LOCATION:St. Nicolaikirche Wittmund\, Am Kirchplatz 2\, 26409\, Wittmund
SUMMARY:"Lesebrille"
END:VEVENT
END:VCALENDAR
