BEGIN:VCALENDAR
VERSION:2.0
PRODID:icalendar-ruby
CALSCALE:GREGORIAN
BEGIN:VEVENT
DTSTAMP:20260401T092817Z
UID:event-occurrence-246c850b-c64d-465a-9fa0-65a63b03a8ca-event-5b6a13d3-95
 96-4df8-9efd-8455af4ebfbd@termine-e
DTSTART:20260508T110000
DTEND:20260508T000000
CLASS:PUBLIC
LOCATION:St. Severi Otterndorf\, Am Kirchplatz 2\, 21762\, Otterndorf
SUMMARY:Musikalische Andacht zur Marktzeit in Otterndorf
END:VEVENT
END:VCALENDAR
