BEGIN:VCALENDAR
VERSION:2.0
PRODID:icalendar-ruby
CALSCALE:GREGORIAN
BEGIN:VEVENT
DTSTAMP:20260314T160343Z
UID:event-occurrence-836ad4fb-fb30-4425-a8ee-547b7aa8c284-event-5b493450-ff
 63-45ad-8369-bd9898405ee7@termine-e
DTSTART:20260610T190000
DTEND:20260610T000000
CLASS:PUBLIC
DESCRIPTION:mit Wein und Gesang\, musikalisch gestaltet von Antonia Radneva
  und Friedemann Seitzer
LOCATION:Lukaskirche\, Schlesierstr. 5\, 31139\, Hildesheim
SUMMARY:In VINO VERITAS – ein biblischer Stiftungsabend im Zeichen des We
 ines
END:VEVENT
END:VCALENDAR
