BEGIN:VCALENDAR
VERSION:2.0
PRODID:icalendar-ruby
CALSCALE:GREGORIAN
BEGIN:VEVENT
DTSTAMP:20260327T103048Z
UID:event-occurrence-10c0146c-4899-4d09-990a-b4d8f5a8b8ba-event-5b20a175-5b
 9d-417e-92d1-d563f3f560bd@termine-e
DTSTART:20260428T190000
DTEND:20260428T000000
CLASS:PUBLIC
DESCRIPTION:Luft zum Leben. Geschichten vom Übergang. Lesungmit Helga Schu
 bert aus ihrem neuen Buch
LOCATION:St. Lamberti Hildesheim
SUMMARY:Lesung - PASSAGE Die Dinge | Das Leben - Fotoausstellung von Klaus 
 G. Kohn
END:VEVENT
END:VCALENDAR
