BEGIN:VCALENDAR
VERSION:2.0
PRODID:icalendar-ruby
CALSCALE:GREGORIAN
BEGIN:VEVENT
DTSTAMP:20260421T102445Z
UID:event-occurrence-e8914f9e-1fdf-436d-9064-f1ec478f86e7-event-5a87560a-2b
 72-4059-bca7-423ad8f9b1b2@termine-e
DTSTART:20260426T000000
DTEND:20260426T000000
CLASS:PUBLIC
DESCRIPTION:Die Kirchengemeinde St. Johannis Sandhorst muss den angekündig
 ten Musikprojekttag und den sich daran anschließenden Konzertgottesdienst
  am Sonntag Jubilate aus organisatorischen Gründen leider absagen.
LOCATION:St. Johanniskirche\, An der Johanniskirche 4\, Sandhorst
SUMMARY:Jubilate: Musikprojekttag in Sandhorst abgesagt
END:VEVENT
END:VCALENDAR
