BEGIN:VCALENDAR
VERSION:2.0
PRODID:icalendar-ruby
CALSCALE:GREGORIAN
BEGIN:VEVENT
DTSTAMP:20260407T092724Z
UID:event-occurrence-0a1259f2-89a2-463a-be87-b28e21658f44-event-5a8131ce-2e
 32-4852-ad18-629065cb5b8e@termine-e
DTSTART:20260524T100000
DTEND:20260524T000000
CLASS:PUBLIC
DESCRIPTION:PfingstsonntagGottesdienstMusikal. Gestaltung: Posaunenchor Ard
 orfLiturg. Leitung: Pastor Thiem
LOCATION:Kirche Ardorf\, Hohebarger Str.\, 26409\, Wittmund
SUMMARY:Pfingstgottesdienst in Ardorf
END:VEVENT
END:VCALENDAR
