BEGIN:VCALENDAR
VERSION:2.0
PRODID:icalendar-ruby
CALSCALE:GREGORIAN
BEGIN:VEVENT
DTSTAMP:20260417T080713Z
UID:event-occurrence-20438711-5672-47ed-9dd2-1a26de528b4d-event-59928d1f-1e
 12-4758-9c44-107832af7bb1@termine-e
DTSTART:20260503T100000
DTEND:20260503T000000
CLASS:PUBLIC
DESCRIPTION:27 Jahre lang hat Eva Maschinski den ambulanten Hospizdienst Al
 pha koordiniert und geleitet. Jetzt tritt sie ihren Ruhestand an. Im Gotte
 sdienst am Sonntag\, 3. Mai 2026\, ab 10 Uhr\, wird sie in der St. Blasius
  Kirche in Hann. Münden (Ziegelstraße) feierlich verabschiedet. Mehr daz
 u auf dieser Webseite unter AKTUELLES: https://goettingen-muenden.de/aktue
 lles/2026_presse/20260417_HospizdienstAlpha
LOCATION:St. Blasius-Kirche Hann. Münden\, Ziegelstraße 16\, 34346\, Hann
 . Münden
SUMMARY:Verabschiedung von Eva Maschinski aus dem Hospizdienst Alpha
END:VEVENT
END:VCALENDAR
