BEGIN:VCALENDAR
VERSION:2.0
PRODID:icalendar-ruby
CALSCALE:GREGORIAN
BEGIN:VEVENT
DTSTAMP:20260407T090912Z
UID:event-occurrence-813c476d-92e4-41d5-b132-8a50eabeb864-event-5933de78-8f
 57-4e70-992d-3c6b83c911b6@termine-e
DTSTART:20260503T190000
DTEND:20260503T000000
CLASS:PUBLIC
DESCRIPTION:KantateGottesdienstLiturg. Leitung: Diakonin Pendias
LOCATION:Grundschule Willen\, Brink 52\, 26409\, Wittmund
SUMMARY:Gottesdienst in Willen
END:VEVENT
END:VCALENDAR
