BEGIN:VCALENDAR
VERSION:2.0
PRODID:icalendar-ruby
CALSCALE:GREGORIAN
BEGIN:VEVENT
DTSTAMP:20260415T080250Z
UID:event-occurrence-58e4202b-7bf1-4eab-9cfb-74d1ddf6834a-event-59030918-6f
 83-42da-b1c4-180010370cd4@termine-e
DTSTART:20260426T170000
DTEND:20260524T100000
CLASS:PUBLIC
DESCRIPTION:Über einen Zeitraum von 12 Jahren entstanden 50 Motive zu Lebe
 nsgeschichten und einschneidenden\, prägenden Erfahrungen älterer Mensch
 en. Auf der Grundlage langer Vorgespräche fanden sich ‚Requisiten‘\, 
 die mit diesen Erfahrungen verbundensind. Die Bilder auf winterlichen\, ka
 hlen Äckern sind Zeichen dieser persönlichen Lebensgeschichten. Sie kön
 nen allgemeingültig für die Erfahrungendieser Generation stehen.
LOCATION:St. Lamberti Hildesheim
SUMMARY:PASSAGE Die Dinge | Das Leben - Fotoausstellung von Klaus G. Kohn
END:VEVENT
END:VCALENDAR
