BEGIN:VCALENDAR
VERSION:2.0
PRODID:icalendar-ruby
CALSCALE:GREGORIAN
BEGIN:VEVENT
DTSTAMP:20260416T112113Z
UID:event-occurrence-8961c5fd-6194-461f-9882-b02dacd864db-event-58b78e27-17
 fc-41d9-afcf-2dc07886a73a@termine-e
DTSTART:20260502T090000
DTEND:20260502T000000
CLASS:PUBLIC
DESCRIPTION:einfache Yogaübungen\, Atemübungen und Meditationen\, schenke
 n uns ein spürbares Maß an Ruhe und inneren Frieden. Alle Übungen werde
 n konkret angesagt. jeweils von 9.00 - 11.00 Uhr im Lukas Familienzentrum\
 , Heckerstr.75 in 49082 Osnabrück Es lädt ein: Sabine Narup\, Yogalehrer
 in BDY EYU\, Tel.: 0541 589051mit der Bitte\, die eigene Matte\, evtl. Dec
 ke\, Sitzkissen und bequeme Kleidung mitzubringen.Anstelle einer Teilnahme
 gebühr wird um eine wertschätzende Spende gebeten\, die an seriöse Hilf
 sorganisa...
LOCATION:Lukas-Familienzentrum\, Heckerstraße 75\, 49082\, Osnabrück
SUMMARY:Friedensyoga
END:VEVENT
END:VCALENDAR
