BEGIN:VCALENDAR
VERSION:2.0
PRODID:icalendar-ruby
CALSCALE:GREGORIAN
BEGIN:VEVENT
DTSTAMP:20250427T153758Z
UID:event-occurrence-d37effcb-2538-4c16-a682-fca3e83d897e-event-58780ecf-83
 26-48a7-8d69-fdacf9278066@termine-e
DTSTART:20250511T110000
DTEND:20250511T000000
CLASS:PUBLIC
DESCRIPTION:mit Diakonin Beckermann
LOCATION:Bethlehemkirche\, Linden-Nord\, Bethlehemplatz 1\, 30451\, Hannove
 r
SUMMARY:Konfirmation mit Bethlehemchor
END:VEVENT
END:VCALENDAR
