BEGIN:VCALENDAR
VERSION:2.0
PRODID:icalendar-ruby
CALSCALE:GREGORIAN
BEGIN:VEVENT
DTSTAMP:20260409T095950Z
UID:event-occurrence-c33c77df-da45-4cee-b6cb-e21e265c8b46-event-580f789a-7a
 7a-4e6c-ae79-0a9d3466d1ad@termine-e
DTSTART:20260908T100000
DTEND:20260908T163000
CLASS:PUBLIC
DESCRIPTION:Sonja Schoske\, Landeskirchliches Archiv\, gibt Ihnen Informati
 onen und praktische Hinweise zu folgenden Themen: Registratur\, Ablage von
  Schriftstücken\, Überführung von Aktenbeständen in die Altregistratur
  und Beschriftung von Schriftgutbehältern\, Kirchbuchführung\, Archivier
 ung und Ahnenforschung!
LOCATION:Hanns-Lilje-Haus Hannover\, Knochenhauerstraße 33\, 30159\, Hanno
 ver
SUMMARY:Registratur und Archivwesen im Pfarramtsbüro
END:VEVENT
END:VCALENDAR
