BEGIN:VCALENDAR
VERSION:2.0
PRODID:icalendar-ruby
CALSCALE:GREGORIAN
BEGIN:VEVENT
DTSTAMP:20260319T100157Z
UID:event-occurrence-41e918a3-1a2f-43a9-be50-640103cf55fa-event-58077f71-7a
 fd-43ec-be51-4c3cd72ece90@termine-e
DTSTART:20260613T193000
DTEND:20260613T000000
CLASS:PUBLIC
DESCRIPTION:Ensemble Musica getutschtHana Blažíková\, Sopran | Terry Wey
 \, Alt | Mirko Ludwig &amp\; Loïc Paulin\, Tenor | Dominik Wörner\, Bass
  | Bernhard Reichel\, Laute und Leitung In diesem Konzertprogramm begegnen
  sich zwei herausragende – und berüchtigt „wahnsinnige“ – Komponi
 sten des Frühbarock: John Dowland und Carlo Gesualdo\, deren Leben von Me
 lancholie und extremen Leidenschaften geprägt war. Ihre Musik verbindet d
 as ekstatische Grenzgängertum ihrer Schöpfer\, die zwischen Genie und Wa
 hnsinn zeitlose ...
LOCATION:Kreuzkirche Hannover\, Kreuzkirchhof\, 30159\, Hannover
SUMMARY:„Melancholia“ – zum 400. Todestag John Dowlands
END:VEVENT
END:VCALENDAR
