BEGIN:VCALENDAR
VERSION:2.0
PRODID:icalendar-ruby
CALSCALE:GREGORIAN
BEGIN:VEVENT
DTSTAMP:20260414T072705Z
UID:event-occurrence-71870934-5e99-491d-a13b-2dee75eaca8f-event-577ebd65-ae
 23-4318-be71-92b6d424b51e@termine-e
DTSTART:20260924T100000
DTEND:20260924T000000
CLASS:PUBLIC
LOCATION:Lukaskirche\, Schlesierstr. 5\, 31139\, Hildesheim
SUMMARY:Besuchsdienst für Zugezogene
END:VEVENT
END:VCALENDAR
