BEGIN:VCALENDAR
VERSION:2.0
PRODID:icalendar-ruby
CALSCALE:GREGORIAN
BEGIN:VEVENT
DTSTAMP:20260417T214508Z
UID:event-occurrence-49fc8b41-50d2-4b3f-a13b-3763f25d9de9-event-5740a26f-f2
 e4-4670-a369-9730b57c7c3a@termine-e
DTSTART:20260919T140000
DTEND:20260919T170000
CLASS:PUBLIC
DESCRIPTION:Ideen\, Planungen und Spinnereien für 2027
LOCATION:St.Michael Nienburg\, Gemeindehaus
SUMMARY:KKJK Werkstatttag
END:VEVENT
END:VCALENDAR
