BEGIN:VCALENDAR
VERSION:2.0
PRODID:icalendar-ruby
CALSCALE:GREGORIAN
BEGIN:VEVENT
DTSTAMP:20260314T143348Z
UID:event-occurrence-90b209b0-8cbc-40ba-9365-566215cc9ab8-event-5662f237-50
 dc-4410-91f8-f033285265b8@termine-e
DTSTART:20260623T170000
DTEND:20260623T190000
CLASS:PUBLIC
DESCRIPTION:In dieser Einheit beschäftigen sich die Konfis mit den Zehn Ge
 boten und der Goldenen Regel. Gemeinsam überlegen wir\, welche Orientieru
 ng diese Regeln für das Zusammenleben von Menschen geben und warum sie bi
 s heute eine wichtige Rolle im christlichen Glauben spielen. Dabei geht es
  auch darum\, was die Gebote mit dem Alltag der Jugendlichen zu tun haben 
 und wie sie helfen können\, respektvoll und verantwortungsvoll miteinande
 r umzugehen.
LOCATION:Gemeindehaus der ev.-luth. Kirche St. Marien\, Kirchstraße 4\, 29
 339\, Wathlingen
SUMMARY:KU05: 10 Gebote + die goldene Regel
END:VEVENT
END:VCALENDAR
