BEGIN:VCALENDAR
VERSION:2.0
PRODID:icalendar-ruby
CALSCALE:GREGORIAN
BEGIN:VEVENT
DTSTAMP:20260310T070948Z
UID:event-occurrence-fb462990-3aab-4a2c-99b1-fd450c6da6cb-event-557db6cc-a0
 ec-4e4b-9532-460dc90d2b2a@termine-e
DTSTART:20260315T110000
DTEND:20260315T000000
CLASS:PUBLIC
LOCATION:St. Andreas Geversdorf\, An der Kirche\, 21784\, Geversdorf
SUMMARY:Gottesdienst zum Bläsersonntag in Geversdorf\, anschließend Jahre
 sempfang
END:VEVENT
END:VCALENDAR
