BEGIN:VCALENDAR
VERSION:2.0
PRODID:icalendar-ruby
CALSCALE:GREGORIAN
BEGIN:VEVENT
DTSTAMP:20260421T102136Z
UID:event-occurrence-7a053b69-c02c-458c-93d1-11b05176284e-event-53f7a9cf-2e
 b8-42ec-afd6-931297e26884@termine-e
DTSTART:20260522T160000
DTEND:20260522T171500
CLASS:PUBLIC
DESCRIPTION:Kommt vorbei und macht mit\, hier gibt es coole Aktionen\, Gesc
 hichten aus der Bibel und ganz viel Spaß!Die Kirche mit Kindern trifft si
 ch jetzt an jedem 2. Freitag im Monat\, immer in den geraden Wochen. An Fe
 rien- und Feiertagen findet keine Kinderkirche statt. Die Kinderkirche eig
 net sich für Kinder ab 4 Jahre. Leitung: Diakon Michael Theiler
LOCATION:Gemeindehaus an der Christuskirche\, Schillerstr. 1\, 27570\, Brem
 erhaven
SUMMARY:Kirche mit Kindern - Christuskirche
END:VEVENT
END:VCALENDAR
