BEGIN:VCALENDAR
VERSION:2.0
PRODID:icalendar-ruby
CALSCALE:GREGORIAN
BEGIN:VEVENT
DTSTAMP:20260324T223739Z
UID:event-occurrence-36de4cb2-03f4-4a6c-b66a-662bf6e0f956-event-53e3875e-be
 58-45ab-8f15-e2a6071fc4b0@termine-e
DTSTART:20260525T100000
DTEND:20260525T000000
CLASS:PUBLIC
DESCRIPTION:Posaunenchor\, Pn. v. Stemm
LOCATION:Schützenplatz Barme\, Weserstraße 36 B\, 27313\, Dörverden-Barm
 e
SUMMARY:Pfingstmontag Schützenplatz Barme
END:VEVENT
END:VCALENDAR
