BEGIN:VCALENDAR
VERSION:2.0
PRODID:icalendar-ruby
CALSCALE:GREGORIAN
BEGIN:VEVENT
DTSTAMP:20260409T142141Z
UID:event-occurrence-b7cb74b9-de07-4324-8e0d-5510f9bc3f9d-event-53c5b461-44
 86-4012-a6b1-7ad683e8ebd2@termine-e
DTSTART:20260424T103000
DTEND:20260424T000000
CLASS:PUBLIC
DESCRIPTION:mit Pastor Philipp Wollek und Team
LOCATION:
SUMMARY:Kindergartenandacht in Rethem
END:VEVENT
END:VCALENDAR
