BEGIN:VCALENDAR
VERSION:2.0
PRODID:icalendar-ruby
CALSCALE:GREGORIAN
BEGIN:VEVENT
DTSTAMP:20260401T075659Z
UID:event-occurrence-e1643598-ea58-49c8-bc0b-d1bf9d75a512-event-52ba9b33-cc
 5c-4f91-a0df-f944a335f578@termine-e
DTSTART:20260419T093000
DTEND:20260419T000000
CLASS:PUBLIC
DESCRIPTION:"Paulus in Athen"\, Pastor Jan Höffker
LOCATION:Liebfrauenkirche Moringen\, Kirchstraße 2\, 37186\, Moringen
SUMMARY:Generationenkirche
END:VEVENT
END:VCALENDAR
