BEGIN:VCALENDAR
VERSION:2.0
PRODID:icalendar-ruby
CALSCALE:GREGORIAN
BEGIN:VEVENT
DTSTAMP:20260410T084524Z
UID:event-occurrence-9bc78b16-0169-4704-96f2-9adc822f6e0e-event-52b3044d-c5
 2b-4678-9ae4-7ec72426f24a@termine-e
DTSTART:20260508T173000
DTEND:20260508T000000
CLASS:PUBLIC
DESCRIPTION:Menschenrechte sind nicht verhandelbarAm Freitag\, den 8. Mai 2
 026\, lädt das Zentrum Selbstbestimmt Leben Lüneburger Heide e.V. (ZSL)\
 , der Mutterverein der Selbsthilfegruppe "Gruppe für Behinderte Wathlinge
 n-Flotwedel " zu einem besonderen Begegnungsabend in das Gemeindehaus der 
 St. Marien Kirche in Wathlingen ein.Unter dem Motto„Menschenrechte sind 
 nicht verhandelbar – auch nicht bei unsichtbaren Behinderungen“entsteh
 t ein Raum für Austausch\, Aufklärung und persönliche Einblicke.Ziel de
 r Vera...
LOCATION:Gemeindehaus der ev.-luth. Kirche St. Marien\, Kirchstraße 4\, 29
 339\, Wathlingen
SUMMARY:Begegnungsabend zu unsichtbaren Behinderungen in Wathlingen
END:VEVENT
END:VCALENDAR
