BEGIN:VCALENDAR
VERSION:2.0
PRODID:icalendar-ruby
CALSCALE:GREGORIAN
BEGIN:VEVENT
DTSTAMP:20260316T105017Z
UID:event-occurrence-b38ab1d9-f098-46b0-bf52-dab33b4f7201-event-521631ee-47
 f8-4301-81ec-6d6f593da5c0@termine-e
DTSTART:20260529T170000
DTEND:20260529T000000
CLASS:PUBLIC
LOCATION:St. Godehard Kirche\, Godehardtstr.\, 31139\, Hildesheim
SUMMARY:To Godehard: Liebe geht nicht nur durch den Magen
END:VEVENT
END:VCALENDAR
