BEGIN:VCALENDAR
VERSION:2.0
PRODID:icalendar-ruby
CALSCALE:GREGORIAN
BEGIN:VEVENT
DTSTAMP:20260409T100509Z
UID:event-occurrence-90408cb2-334f-441b-bc0f-ef637412cc7b-event-5162c56d-6d
 29-48b7-b711-898d1d7f4e28@termine-e
DTSTART:20261110T100000
DTEND:20261110T163000
CLASS:PUBLIC
DESCRIPTION:In Ihrem beruflichen Kontext begegnen Sie als Pfarramtssekretä
 r*in auch trauernden Menschen. Neben organisatorischen Fragen stehen plöt
 zlich Schmerz\, Sprachlosigkeit und der Wunsch nach Trost im Raum. Diese F
 ortbildung stärkt Sie darin\, sensibel zu begleiten und passende Worte zu
  finden.
LOCATION:Hanns-Lilje-Haus Hannover\, Knochenhauerstraße 33\, 30159\, Hanno
 ver
SUMMARY:Vom Umgang mit Abschied\, Tod und Trauer
END:VEVENT
END:VCALENDAR
