BEGIN:VCALENDAR
VERSION:2.0
PRODID:icalendar-ruby
CALSCALE:GREGORIAN
BEGIN:VEVENT
DTSTAMP:20260314T143434Z
UID:event-occurrence-072c9d46-77bd-4901-96ed-eb27fddb7469-event-5157b416-2c
 ff-4171-bee9-b5245c14353e@termine-e
DTSTART:20260825T170000
DTEND:20260825T190000
CLASS:PUBLIC
DESCRIPTION:In dieser Einheit beschäftigen sich die Konfis mit dem Thema G
 ebet. Wir sprechen darüber\, was Beten eigentlich bedeutet und warum Mens
 chen beten. Dabei entdecken die Jugendlichen verschiedene Formen des Gebet
 s und überlegen gemeinsam\, welche Rolle das Beten im eigenen Leben und i
 m christlichen Glauben spielen kann.
LOCATION:Gemeindehaus der ev.-luth. Kirche St. Marien\, Kirchstraße 4\, 29
 339\, Wathlingen
SUMMARY:KU06: Beten I
END:VEVENT
END:VCALENDAR
