BEGIN:VCALENDAR
VERSION:2.0
PRODID:icalendar-ruby
CALSCALE:GREGORIAN
BEGIN:VEVENT
DTSTAMP:20260220T115418Z
UID:event-occurrence-0ed7d31c-73e2-4d2d-8fdb-40638ef6389a-event-4f5b37c3-b2
 d0-4370-9739-8fc2752b9199@termine-e
DTSTART:20260308T100000
DTEND:20260308T110000
CLASS:PUBLIC
LOCATION:Kirche St. Nathanael\, Hartenbrakenstr. 27\, 30659\, Hannover
SUMMARY:Gottesdienst mit persönlicher Segnung - Pn. Anja Lipponer - Okuli
END:VEVENT
END:VCALENDAR
