BEGIN:VCALENDAR
VERSION:2.0
PRODID:icalendar-ruby
CALSCALE:GREGORIAN
BEGIN:VEVENT
DTSTAMP:20260316T105252Z
UID:event-occurrence-8e45e586-44d8-46b2-8285-f2426aef3230-event-4e6cf14e-b4
 f9-405a-89d4-194799c00983@termine-e
DTSTART:20260612T170000
DTEND:20260612T000000
CLASS:PUBLIC
LOCATION:St. Godehard Kirche\, Godehardtstr.\, 31139\, Hildesheim
SUMMARY:To Godehard: Klänge und Gesänge
END:VEVENT
END:VCALENDAR
