BEGIN:VCALENDAR
VERSION:2.0
PRODID:icalendar-ruby
CALSCALE:GREGORIAN
BEGIN:VEVENT
DTSTAMP:20260324T223739Z
UID:event-occurrence-8ce3c9bb-69d4-4335-8837-594f51927dea-event-4e07dfbd-c2
 74-4f5f-b9ed-94f9f8629462@termine-e
DTSTART:20260524T110000
DTEND:20260524T000000
CLASS:PUBLIC
DESCRIPTION:Pn. v. Stemm &amp\; P. Görnandt\, Spontanchoranschließend Umt
 runk und gemeins. Mittagessen20 Jahre P. Görnandt in Dörverden
LOCATION:St. Cosmaes et Damiani Kirche\, Kirchstraße 15\, 27313\, Dörverd
 en
SUMMARY:Pfingstsonntag in Dörverden
END:VEVENT
END:VCALENDAR
