BEGIN:VCALENDAR
VERSION:2.0
PRODID:icalendar-ruby
CALSCALE:GREGORIAN
BEGIN:VEVENT
DTSTAMP:20260311T085743Z
UID:event-occurrence-145973d5-b3dd-4a83-9f49-ba5be0c42d81-event-4de46e45-59
 c3-4249-a5ee-e8eaf8516cdc@termine-e
DTSTART:20260329T101500
DTEND:20260329T000000
CLASS:PUBLIC
LOCATION:Emmaus-Kirchengemeinde Leezdorf\, Farnweg 22\, 26529\, Leezdorf
SUMMARY:Gottesdienst mit Lektor S. Rabenstein
END:VEVENT
END:VCALENDAR
