BEGIN:VCALENDAR
VERSION:2.0
PRODID:icalendar-ruby
CALSCALE:GREGORIAN
BEGIN:VEVENT
DTSTAMP:20260416T110004Z
UID:event-occurrence-2337a8a1-b875-435a-b746-60dcebea81d4-event-4c87828c-7a
 db-487e-abf8-752488b93d1f@termine-e
DTSTART:20260829T181500
DTEND:20260829T000000
CLASS:PUBLIC
DESCRIPTION:zum Thema Dein Honig
LOCATION:Emmausgemeinde Standort Bonnus\, Obere Martinistraße 54\, 49078\,
  Osnabrück
SUMMARY:Meditativer Gottesdienst
END:VEVENT
END:VCALENDAR
